BEGIN:VCALENDAR
VERSION:2.0
PRODID:-//Atlantic Beach Arts Market - ECPv6.15.20//NONSGML v1.0//EN
CALSCALE:GREGORIAN
METHOD:PUBLISH
X-WR-CALNAME:Atlantic Beach Arts Market
X-ORIGINAL-URL:https://atlanticbeachartsmarket.com
X-WR-CALDESC:Events for Atlantic Beach Arts Market
REFRESH-INTERVAL;VALUE=DURATION:PT1H
X-Robots-Tag:noindex
X-PUBLISHED-TTL:PT1H
BEGIN:VTIMEZONE
TZID:America/New_York
BEGIN:DAYLIGHT
TZOFFSETFROM:-0500
TZOFFSETTO:-0400
TZNAME:EDT
DTSTART:20250309T070000
END:DAYLIGHT
BEGIN:STANDARD
TZOFFSETFROM:-0400
TZOFFSETTO:-0500
TZNAME:EST
DTSTART:20251102T060000
END:STANDARD
BEGIN:DAYLIGHT
TZOFFSETFROM:-0500
TZOFFSETTO:-0400
TZNAME:EDT
DTSTART:20260308T070000
END:DAYLIGHT
BEGIN:STANDARD
TZOFFSETFROM:-0400
TZOFFSETTO:-0500
TZNAME:EST
DTSTART:20261101T060000
END:STANDARD
BEGIN:DAYLIGHT
TZOFFSETFROM:-0500
TZOFFSETTO:-0400
TZNAME:EDT
DTSTART:20270314T070000
END:DAYLIGHT
BEGIN:STANDARD
TZOFFSETFROM:-0400
TZOFFSETTO:-0500
TZNAME:EST
DTSTART:20271107T060000
END:STANDARD
END:VTIMEZONE
BEGIN:VEVENT
DTSTART;TZID=America/New_York:20260424T090000
DTEND;TZID=America/New_York:20260424T120000
DTSTAMP:20260423T085310
CREATED:20260107T013703Z
LAST-MODIFIED:20260107T013703Z
UID:8144-1777021200-1777032000@atlanticbeachartsmarket.com
SUMMARY:2-Day Pottery Workshop: Ceramic Fish (Day 2/2)
DESCRIPTION:Join Chelsea at ABAM for a 2-day Ceramic Fish Workshop on Friday\, 4/10 and 4/24!\n\n\n\nIt’s the perfect time to create garden art. In this workshop students will create decorative hand-built pieces using the various methods. \nThis workshop occurs on two days\, two weeks apart: \n\nFriday\, April 10th from 10am-12pm &\nFriday\, April 24th from 9am-12pm\n\nIn DAY ONE of the workshop\, students will make a ceramic fish with instructor assistance\, as needed. Students will glaze the pieces on DAY TWO of the workshop and will get to choose from a variety of color options. \nTickets: $65 per person \nClick here to purchase tickets \nInstructor: Chelsea Leonard \n\n\n\n\n\n\n\n\n\n\n\n\n\n\n\n\n\n\n\n\n\n\n\n\n\n\n\n\n\n\n\n\n*** NOTICE *** \nClass tickets are only refundable if the refund is requested before the date of the purchased class. Tickets purchased through Eventbrite will only be refunded for the class ticket cost\, minus the online processing fees due to changes in Eventbrite policies. After the class date\, a credit will be issued\, redeemable in store for another class.
URL:https://atlanticbeachartsmarket.com/class-calendar/2-day-pottery-workshop-ceramic-fish-day-2-2-5/
LOCATION:Atlantic Beach Arts Market\, Inc.\, 1805 Mayport Rd\, Atlantic Beach\, FL\, 32233\, US
ATTACH;FMTTYPE=image/png:https://atlanticbeachartsmarket.com/wp-content/uploads/2024/09/Chelsea-Cover-Photos-2.png
END:VEVENT
BEGIN:VEVENT
DTSTART;TZID=America/New_York:20260425T100000
DTEND;TZID=America/New_York:20260425T120000
DTSTAMP:20260423T085310
CREATED:20260113T033608Z
LAST-MODIFIED:20260417T024732Z
UID:8225-1777111200-1777118400@atlanticbeachartsmarket.com
SUMMARY:Watercolor Painting Workshop with Bonnie Williams
DESCRIPTION:Learn basic watercolor techniques and characteristics at ABAM with Bonnie Williams on Saturday\, 4/25!\n\n\n\nTickets are $50 per person \nClick here to purchase tickets \nInstructor: Bonnie Williams \n \n\n\n\n\n*** NOTICE *** \nClass tickets are only refundable if the refund is requested before the date of the purchased class. Tickets purchased through Eventbrite will only be refunded for the class ticket cost\, minus the online processing fees due to changes in Eventbrite policies. After the class date\, a credit will be issued\, redeemable in store for another class.
URL:https://atlanticbeachartsmarket.com/class-calendar/watercolor-painting-workshop-with-bonnie-williams-48/
LOCATION:Atlantic Beach Arts Market\, Inc.\, 1805 Mayport Rd\, Atlantic Beach\, FL\, 32233\, US
ATTACH;FMTTYPE=image/png:https://atlanticbeachartsmarket.com/wp-content/uploads/2026/01/Bonnie-Williams-Cover-4.png
END:VEVENT
BEGIN:VEVENT
DTSTART;TZID=America/New_York:20260425T140000
DTEND;TZID=America/New_York:20260425T170000
DTSTAMP:20260423T085310
CREATED:20260305T001453Z
LAST-MODIFIED:20260305T001453Z
UID:8372-1777125600-1777136400@atlanticbeachartsmarket.com
SUMMARY:Jewelry Workshop: Silver Ring with Stone
DESCRIPTION:Join Eve Huggins at ABAM for a silver ring with stone workshop on Saturday\, 4/25! \n\n\n\n\nCome learn how to make a ring and enhance it with a stone. We will use sterling silver to make a ring and a sterling silver bezel to hold the stone. A variety of stones with color will be available for you to choose from. \nClass Cost: $110 (supplies included) \nClick here to purchase tickets \nClass participation is limited to 18 years and older \nDuring the class the following techniques are used: open flame\, soldering\, pliers\, sanding\, hammering and pickling of silver. By attending the class you agree to follow all safety precautions set forth by the Instructor and Atlantic Beach Arts Market. \nPlease note:\nIf you have a medical condition that can be triggered by sounds\, this class does use hammers on metal which might be triggering to some people. \nInstructor: Eve Huggins \nYour teacher is Eve Huggins\, who is a hobbyist jeweler that loves teaching people how to create and seeing people light up with the possibilities they can create with jewelry making. She has been teaching for over 5 years at other studios in Jacksonville. \n\n\n\n\n\n\n\n\n\n\n\n\n\n\n\n\n\n\n\n\n\n\n\n\n*** NOTICE *** \nClass tickets are only refundable if the refund is requested before the date of the purchased class. Tickets purchased through Eventbrite will only be refunded for the class ticket cost\, minus the online processing fees due to changes in Eventbrite policies. After the class date\, a credit will be issued\, redeemable in store for another class.
URL:https://atlanticbeachartsmarket.com/class-calendar/jewelry-workshop-silver-ring-with-stone-8/
LOCATION:Atlantic Beach Arts Market\, Inc.\, 1805 Mayport Rd\, Atlantic Beach\, FL\, 32233\, US
ATTACH;FMTTYPE=image/png:https://atlanticbeachartsmarket.com/wp-content/uploads/2024/06/Eve-Jewelry-Covers.png
END:VEVENT
BEGIN:VEVENT
DTSTART;TZID=America/New_York:20260426T100000
DTEND;TZID=America/New_York:20260426T120000
DTSTAMP:20260423T085310
CREATED:20260107T015837Z
LAST-MODIFIED:20260107T023539Z
UID:8151-1777197600-1777204800@atlanticbeachartsmarket.com
SUMMARY:2-Day Pottery Workshop: Ceramic Dog (Day 1/2)
DESCRIPTION:Join Chelsea at ABAM for a 2-day Ceramic Dog Workshop on Sunday\, 4/26 and 5/10!\n\n\n\nIn this workshop students will create decorative hand-built pieces using the various methods. \nThis workshop occurs on two days\, two weeks apart: \n\nSunday\, April 29th from 10am-12pm &\nSunday\, May 10th from 9am-12pm\n\nIn DAY ONE of the workshop\, students will make a ceramic dog with instructor assistance\, as needed. Students will glaze the pieces on DAY TWO of the workshop and will get to choose from a variety of color options. \nTickets: $65 per person \nClick here to purchase tickets \nInstructor: Chelsea Leonard \n\n\n\n\n\n\n\n\n\n*** NOTICE *** \nClass tickets are only refundable if the refund is requested before the date of the purchased class. Tickets purchased through Eventbrite will only be refunded for the class ticket cost\, minus the online processing fees due to changes in Eventbrite policies. After the class date\, a credit will be issued\, redeemable in store for another class.
URL:https://atlanticbeachartsmarket.com/class-calendar/2-day-pottery-workshop-ceramic-dog-day-1-2-2/
LOCATION:Atlantic Beach Arts Market\, Inc.\, 1805 Mayport Rd\, Atlantic Beach\, FL\, 32233\, US
ATTACH;FMTTYPE=image/png:https://atlanticbeachartsmarket.com/wp-content/uploads/2026/01/Chelsea-Cover-Photos.png
END:VEVENT
BEGIN:VEVENT
DTSTART;TZID=America/New_York:20260426T140000
DTEND;TZID=America/New_York:20260426T163000
DTSTAMP:20260423T085310
CREATED:20260402T224906Z
LAST-MODIFIED:20260402T225237Z
UID:8538-1777212000-1777221000@atlanticbeachartsmarket.com
SUMMARY:Landscape Acrylic Painting Workshop
DESCRIPTION:Join Valerie for a landscape acrylic painting workshop on Sunday\, 4/26 at 2pm! \n\n\n\n\nUsing collage elements and acrylic paint\, we will create a modern still life full of texture and interest. \nYou will leave with a 12×16 canvas panel and some new ideas. If you are looking to express your creativity in a new way\, this is for you! \nTickets: $50\, all supplies included \nClick here to purchase tickets \nAge: 13+ \nInstructor: Valerie Lamb-Steece \n\n\n\n\n\n\n\n\n\nInstructor Bio:\nValerie Lamb-Steece is an Artist living and working in Atlantic Beach Florida. Originally from Columbus Ohio\, she and her husband moved for sunshine and being outdoors. She enjoys painting plein air landscapes but equally enjoys creating imaginary tropical pieces filled with creatures found in our area. Using imagery from life as well as from memory\, her work is informed by place. You can find her at her studio in Atlantic Beach\, drawing and playing in paint everyday. \n“I’m interested in places or objects that hold life energy. “ \nEducation: \n1992\, Columbus College of Art and Design\, Fine arts\, BFA\, Painting \n2001\,Ohio Dominican University\, Teaching Certification Degree \nI’ve been a teacher throughout my life\, first working with my own children\, teaching workshops to neighbors\, then earning my teaching certificate k-12. I taught art at Crockett Elementary in Tennessee for many years. \n\n\n\n\n\n\n\n\n\n*** NOTICE *** \nClass tickets are only refundable if the refund is requested before the date of the purchased class. Tickets purchased through Eventbrite will only be refunded for the class ticket cost\, minus the online processing fees due to changes in Eventbrite policies. After the class date\, a credit will be issued\, redeemable in store for another class.
URL:https://atlanticbeachartsmarket.com/class-calendar/landscape-acrylic-painting-workshop/
LOCATION:Atlantic Beach Arts Market\, Inc.\, 1805 Mayport Rd\, Atlantic Beach\, FL\, 32233\, US
ATTACH;FMTTYPE=image/png:https://atlanticbeachartsmarket.com/wp-content/uploads/2026/04/Valerie-Cover.png
END:VEVENT
END:VCALENDAR